BEGIN:VCALENDAR
VERSION:2.0
PRODID:-//Brazosport - ECPv6.15.18//NONSGML v1.0//EN
CALSCALE:GREGORIAN
METHOD:PUBLISH
X-WR-CALNAME:Brazosport
X-ORIGINAL-URL:https://www.visitbrazosport.com
X-WR-CALDESC:Events for Brazosport
REFRESH-INTERVAL;VALUE=DURATION:PT1H
X-Robots-Tag:noindex
X-PUBLISHED-TTL:PT1H
BEGIN:VTIMEZONE
TZID:America/Chicago
BEGIN:DAYLIGHT
TZOFFSETFROM:-0600
TZOFFSETTO:-0500
TZNAME:CDT
DTSTART:20240310T080000
END:DAYLIGHT
BEGIN:STANDARD
TZOFFSETFROM:-0500
TZOFFSETTO:-0600
TZNAME:CST
DTSTART:20241103T070000
END:STANDARD
BEGIN:DAYLIGHT
TZOFFSETFROM:-0600
TZOFFSETTO:-0500
TZNAME:CDT
DTSTART:20250309T080000
END:DAYLIGHT
BEGIN:STANDARD
TZOFFSETFROM:-0500
TZOFFSETTO:-0600
TZNAME:CST
DTSTART:20251102T070000
END:STANDARD
BEGIN:DAYLIGHT
TZOFFSETFROM:-0600
TZOFFSETTO:-0500
TZNAME:CDT
DTSTART:20260308T080000
END:DAYLIGHT
BEGIN:STANDARD
TZOFFSETFROM:-0500
TZOFFSETTO:-0600
TZNAME:CST
DTSTART:20261101T070000
END:STANDARD
END:VTIMEZONE
BEGIN:VTIMEZONE
TZID:UTC
BEGIN:STANDARD
TZOFFSETFROM:+0000
TZOFFSETTO:+0000
TZNAME:UTC
DTSTART:20240101T000000
END:STANDARD
END:VTIMEZONE
BEGIN:VEVENT
DTSTART;TZID=America/Chicago:20250201T090000
DTEND;TZID=America/Chicago:20250201T170000
DTSTAMP:20260421T145717
CREATED:20250128T155051Z
LAST-MODIFIED:20250128T160458Z
UID:8266-1738400400-1738429200@www.visitbrazosport.com
SUMMARY:Rice University Excavations at Varner-Hogg
DESCRIPTION:Students from Rice University’s Archaeological Field Techniques Class will be excavating at the Varner-Hogg Plantation Picnic Loop this Spring! The class is focusing their efforts on the structures discovered and documented during the Summer 2023 drought. The excavations allow students to learn what archeology is really like while still being able to keep a normal college semester. Visitors can check on their progress\, ask questions\, and learn about archaeology on site during these dates:\nFebruary 1 & 2\nFebruary 8 & 9\nFebruary 22 & 23\nMarch 1 & 2
URL:https://www.visitbrazosport.com/event/rice-university-excavations/2025-02-01/
LOCATION:Varner-Hogg Plantation\, 1702 N. 13th\, West Columbia\, TX\, 77486\, United States
ATTACH;FMTTYPE=image/jpeg:https://www.visitbrazosport.com/wp-content/uploads/2025/01/Varner-Hogg-Rice-University-Excavations-2025.jpg
END:VEVENT
BEGIN:VEVENT
DTSTART;TZID=UTC:20250201T100000
DTEND;TZID=UTC:20250201T160000
DTSTAMP:20260421T145717
CREATED:20220902T201811Z
LAST-MODIFIED:20250107T180547Z
UID:6174-1738404000-1738425600@www.visitbrazosport.com
SUMMARY:This Worst of Evils: Slavery in Brazoria County Exhibit
DESCRIPTION:This exhibit shares the narratives of the enslaved who labored local plantations as well as exploring the politics and personalities involved in the slave trade. Original artifacts from local plantation sites will be on display.
URL:https://www.visitbrazosport.com/event/slavery-in-brazoria-county/2025-02-01/
LOCATION:Freeport Historical Museum\, 311 E. Park\, Freeport\, Texas\, 77541
ATTACH;FMTTYPE=image/jpeg:https://www.visitbrazosport.com/wp-content/uploads/2022/09/Plantations-of-Brazoria-County-during-the-Antebellum-Period.jpg
END:VEVENT
BEGIN:VEVENT
DTSTART;TZID=America/Chicago:20250201T140000
DTEND;TZID=America/Chicago:20250201T150000
DTSTAMP:20260421T145717
CREATED:20241120T174041Z
LAST-MODIFIED:20241120T174041Z
UID:8122-1738418400-1738422000@www.visitbrazosport.com
SUMMARY:Levi Jordan Plantation Site Public Guided Tour for Black History Month
DESCRIPTION:Learn from site staff about those who were enslaved or sharecropped during the plantation and post-emancipation eras and the archaeology associated with them.
URL:https://www.visitbrazosport.com/event/levi-jordan-plantation-site-public-guided-tour-for-black-history-month/
LOCATION:Levi Jordan Plantation State Historic Site\, 10510 FM 524\, Brazoria\, TX\, 77422
ATTACH;FMTTYPE=image/jpeg:https://www.visitbrazosport.com/wp-content/uploads/2022/06/Exhibit-Sign.jpg
END:VEVENT
BEGIN:VEVENT
DTSTART;TZID=America/Chicago:20250202T090000
DTEND;TZID=America/Chicago:20250202T170000
DTSTAMP:20260421T145717
CREATED:20250128T155051Z
LAST-MODIFIED:20250128T160518Z
UID:8268-1738486800-1738515600@www.visitbrazosport.com
SUMMARY:Rice University Excavations at Varner-Hogg
DESCRIPTION:Students from Rice University’s Archaeological Field Techniques Class will be excavating at the Varner-Hogg Plantation Picnic Loop this Spring! The class is focusing their efforts on the structures discovered and documented during the Summer 2023 drought. The excavations allow students to learn what archeology is really like while still being able to keep a normal college semester. Visitors can check on their progress\, ask questions\, and learn about archaeology on site during these dates:\nFebruary 1 & 2\nFebruary 8 & 9\nFebruary 22 & 23\nMarch 1 & 2
URL:https://www.visitbrazosport.com/event/rice-university-excavations/2025-02-02/
LOCATION:Varner-Hogg Plantation\, 1702 N. 13th\, West Columbia\, TX\, 77486\, United States
ATTACH;FMTTYPE=image/jpeg:https://www.visitbrazosport.com/wp-content/uploads/2025/01/Varner-Hogg-Rice-University-Excavations-2025.jpg
END:VEVENT
BEGIN:VEVENT
DTSTART;TZID=UTC:20250204T100000
DTEND;TZID=UTC:20250204T160000
DTSTAMP:20260421T145717
CREATED:20220902T201811Z
LAST-MODIFIED:20220902T201811Z
UID:8164-1738663200-1738684800@www.visitbrazosport.com
SUMMARY:This Worst of Evils: Slavery in Brazoria County Exhibit
DESCRIPTION:This exhibit shares the narratives of the enslaved who labored local plantations as well as exploring the politics and personalities involved in the slave trade. Original artifacts from local plantation sites will be on display.
URL:https://www.visitbrazosport.com/event/slavery-in-brazoria-county/2025-02-04/
LOCATION:Freeport Historical Museum\, 311 E. Park\, Freeport\, Texas\, 77541
ATTACH;FMTTYPE=image/jpeg:https://www.visitbrazosport.com/wp-content/uploads/2022/09/Plantations-of-Brazoria-County-during-the-Antebellum-Period.jpg
END:VEVENT
BEGIN:VEVENT
DTSTART;TZID=UTC:20250205T100000
DTEND;TZID=UTC:20250205T160000
DTSTAMP:20260421T145718
CREATED:20220902T201811Z
LAST-MODIFIED:20220902T201811Z
UID:8165-1738749600-1738771200@www.visitbrazosport.com
SUMMARY:This Worst of Evils: Slavery in Brazoria County Exhibit
DESCRIPTION:This exhibit shares the narratives of the enslaved who labored local plantations as well as exploring the politics and personalities involved in the slave trade. Original artifacts from local plantation sites will be on display.
URL:https://www.visitbrazosport.com/event/slavery-in-brazoria-county/2025-02-05/
LOCATION:Freeport Historical Museum\, 311 E. Park\, Freeport\, Texas\, 77541
ATTACH;FMTTYPE=image/jpeg:https://www.visitbrazosport.com/wp-content/uploads/2022/09/Plantations-of-Brazoria-County-during-the-Antebellum-Period.jpg
END:VEVENT
BEGIN:VEVENT
DTSTART;TZID=UTC:20250206T100000
DTEND;TZID=UTC:20250206T160000
DTSTAMP:20260421T145718
CREATED:20220902T201811Z
LAST-MODIFIED:20220902T201811Z
UID:8166-1738836000-1738857600@www.visitbrazosport.com
SUMMARY:This Worst of Evils: Slavery in Brazoria County Exhibit
DESCRIPTION:This exhibit shares the narratives of the enslaved who labored local plantations as well as exploring the politics and personalities involved in the slave trade. Original artifacts from local plantation sites will be on display.
URL:https://www.visitbrazosport.com/event/slavery-in-brazoria-county/2025-02-06/
LOCATION:Freeport Historical Museum\, 311 E. Park\, Freeport\, Texas\, 77541
ATTACH;FMTTYPE=image/jpeg:https://www.visitbrazosport.com/wp-content/uploads/2022/09/Plantations-of-Brazoria-County-during-the-Antebellum-Period.jpg
END:VEVENT
BEGIN:VEVENT
DTSTART;TZID=UTC:20250207T100000
DTEND;TZID=UTC:20250207T160000
DTSTAMP:20260421T145718
CREATED:20220902T201811Z
LAST-MODIFIED:20220902T201811Z
UID:8167-1738922400-1738944000@www.visitbrazosport.com
SUMMARY:This Worst of Evils: Slavery in Brazoria County Exhibit
DESCRIPTION:This exhibit shares the narratives of the enslaved who labored local plantations as well as exploring the politics and personalities involved in the slave trade. Original artifacts from local plantation sites will be on display.
URL:https://www.visitbrazosport.com/event/slavery-in-brazoria-county/2025-02-07/
LOCATION:Freeport Historical Museum\, 311 E. Park\, Freeport\, Texas\, 77541
ATTACH;FMTTYPE=image/jpeg:https://www.visitbrazosport.com/wp-content/uploads/2022/09/Plantations-of-Brazoria-County-during-the-Antebellum-Period.jpg
END:VEVENT
BEGIN:VEVENT
DTSTART;TZID=America/Chicago:20250208T090000
DTEND;TZID=America/Chicago:20250208T170000
DTSTAMP:20260421T145718
CREATED:20250128T155051Z
LAST-MODIFIED:20250128T160520Z
UID:8269-1739005200-1739034000@www.visitbrazosport.com
SUMMARY:Rice University Excavations at Varner-Hogg
DESCRIPTION:Students from Rice University’s Archaeological Field Techniques Class will be excavating at the Varner-Hogg Plantation Picnic Loop this Spring! The class is focusing their efforts on the structures discovered and documented during the Summer 2023 drought. The excavations allow students to learn what archeology is really like while still being able to keep a normal college semester. Visitors can check on their progress\, ask questions\, and learn about archaeology on site during these dates:\nFebruary 1 & 2\nFebruary 8 & 9\nFebruary 22 & 23\nMarch 1 & 2
URL:https://www.visitbrazosport.com/event/rice-university-excavations/2025-02-08/
LOCATION:Varner-Hogg Plantation\, 1702 N. 13th\, West Columbia\, TX\, 77486\, United States
ATTACH;FMTTYPE=image/jpeg:https://www.visitbrazosport.com/wp-content/uploads/2025/01/Varner-Hogg-Rice-University-Excavations-2025.jpg
END:VEVENT
BEGIN:VEVENT
DTSTART;TZID=UTC:20250208T100000
DTEND;TZID=UTC:20250208T160000
DTSTAMP:20260421T145718
CREATED:20220902T201811Z
LAST-MODIFIED:20220902T201811Z
UID:8168-1739008800-1739030400@www.visitbrazosport.com
SUMMARY:This Worst of Evils: Slavery in Brazoria County Exhibit
DESCRIPTION:This exhibit shares the narratives of the enslaved who labored local plantations as well as exploring the politics and personalities involved in the slave trade. Original artifacts from local plantation sites will be on display.
URL:https://www.visitbrazosport.com/event/slavery-in-brazoria-county/2025-02-08/
LOCATION:Freeport Historical Museum\, 311 E. Park\, Freeport\, Texas\, 77541
ATTACH;FMTTYPE=image/jpeg:https://www.visitbrazosport.com/wp-content/uploads/2022/09/Plantations-of-Brazoria-County-during-the-Antebellum-Period.jpg
END:VEVENT
BEGIN:VEVENT
DTSTART;TZID=America/Chicago:20250208T140000
DTEND;TZID=America/Chicago:20250208T160000
DTSTAMP:20260421T145718
CREATED:20241120T174700Z
LAST-MODIFIED:20241120T174700Z
UID:8123-1739023200-1739030400@www.visitbrazosport.com
SUMMARY:Voices of Varner-Hogg: Oral History Journey
DESCRIPTION:On a guided tour\, you will hear oral histories from those who lived at the Varner-Hogg Plantation throughout its history. Discover why oral histories are crucial to understanding this site’s story and learn how to conduct your own oral histories using tools you already have!
URL:https://www.visitbrazosport.com/event/voices-of-varner-hogg-oral-history-journey/
LOCATION:Varner-Hogg Plantation\, 1702 N. 13th\, West Columbia\, TX\, 77486\, United States
ATTACH;FMTTYPE=image/jpeg:https://www.visitbrazosport.com/wp-content/uploads/2019/01/Varner-Hogg-Plantation-e1565893875918.jpg
END:VEVENT
BEGIN:VEVENT
DTSTART;TZID=America/Chicago:20250209T090000
DTEND;TZID=America/Chicago:20250209T170000
DTSTAMP:20260421T145718
CREATED:20250128T155051Z
LAST-MODIFIED:20250128T160521Z
UID:8270-1739091600-1739120400@www.visitbrazosport.com
SUMMARY:Rice University Excavations at Varner-Hogg
DESCRIPTION:Students from Rice University’s Archaeological Field Techniques Class will be excavating at the Varner-Hogg Plantation Picnic Loop this Spring! The class is focusing their efforts on the structures discovered and documented during the Summer 2023 drought. The excavations allow students to learn what archeology is really like while still being able to keep a normal college semester. Visitors can check on their progress\, ask questions\, and learn about archaeology on site during these dates:\nFebruary 1 & 2\nFebruary 8 & 9\nFebruary 22 & 23\nMarch 1 & 2
URL:https://www.visitbrazosport.com/event/rice-university-excavations/2025-02-09/
LOCATION:Varner-Hogg Plantation\, 1702 N. 13th\, West Columbia\, TX\, 77486\, United States
ATTACH;FMTTYPE=image/jpeg:https://www.visitbrazosport.com/wp-content/uploads/2025/01/Varner-Hogg-Rice-University-Excavations-2025.jpg
END:VEVENT
BEGIN:VEVENT
DTSTART;TZID=UTC:20250211T100000
DTEND;TZID=UTC:20250211T160000
DTSTAMP:20260421T145718
CREATED:20220902T201811Z
LAST-MODIFIED:20220902T201811Z
UID:8169-1739268000-1739289600@www.visitbrazosport.com
SUMMARY:This Worst of Evils: Slavery in Brazoria County Exhibit
DESCRIPTION:This exhibit shares the narratives of the enslaved who labored local plantations as well as exploring the politics and personalities involved in the slave trade. Original artifacts from local plantation sites will be on display.
URL:https://www.visitbrazosport.com/event/slavery-in-brazoria-county/2025-02-11/
LOCATION:Freeport Historical Museum\, 311 E. Park\, Freeport\, Texas\, 77541
ATTACH;FMTTYPE=image/jpeg:https://www.visitbrazosport.com/wp-content/uploads/2022/09/Plantations-of-Brazoria-County-during-the-Antebellum-Period.jpg
END:VEVENT
BEGIN:VEVENT
DTSTART;TZID=UTC:20250212T100000
DTEND;TZID=UTC:20250212T160000
DTSTAMP:20260421T145718
CREATED:20220902T201811Z
LAST-MODIFIED:20220902T201811Z
UID:8170-1739354400-1739376000@www.visitbrazosport.com
SUMMARY:This Worst of Evils: Slavery in Brazoria County Exhibit
DESCRIPTION:This exhibit shares the narratives of the enslaved who labored local plantations as well as exploring the politics and personalities involved in the slave trade. Original artifacts from local plantation sites will be on display.
URL:https://www.visitbrazosport.com/event/slavery-in-brazoria-county/2025-02-12/
LOCATION:Freeport Historical Museum\, 311 E. Park\, Freeport\, Texas\, 77541
ATTACH;FMTTYPE=image/jpeg:https://www.visitbrazosport.com/wp-content/uploads/2022/09/Plantations-of-Brazoria-County-during-the-Antebellum-Period.jpg
END:VEVENT
BEGIN:VEVENT
DTSTART;TZID=UTC:20250213T100000
DTEND;TZID=UTC:20250213T160000
DTSTAMP:20260421T145718
CREATED:20220902T201811Z
LAST-MODIFIED:20220902T201811Z
UID:8171-1739440800-1739462400@www.visitbrazosport.com
SUMMARY:This Worst of Evils: Slavery in Brazoria County Exhibit
DESCRIPTION:This exhibit shares the narratives of the enslaved who labored local plantations as well as exploring the politics and personalities involved in the slave trade. Original artifacts from local plantation sites will be on display.
URL:https://www.visitbrazosport.com/event/slavery-in-brazoria-county/2025-02-13/
LOCATION:Freeport Historical Museum\, 311 E. Park\, Freeport\, Texas\, 77541
ATTACH;FMTTYPE=image/jpeg:https://www.visitbrazosport.com/wp-content/uploads/2022/09/Plantations-of-Brazoria-County-during-the-Antebellum-Period.jpg
END:VEVENT
BEGIN:VEVENT
DTSTART;TZID=UTC:20250214T100000
DTEND;TZID=UTC:20250214T160000
DTSTAMP:20260421T145718
CREATED:20220902T201811Z
LAST-MODIFIED:20220902T201811Z
UID:8172-1739527200-1739548800@www.visitbrazosport.com
SUMMARY:This Worst of Evils: Slavery in Brazoria County Exhibit
DESCRIPTION:This exhibit shares the narratives of the enslaved who labored local plantations as well as exploring the politics and personalities involved in the slave trade. Original artifacts from local plantation sites will be on display.
URL:https://www.visitbrazosport.com/event/slavery-in-brazoria-county/2025-02-14/
LOCATION:Freeport Historical Museum\, 311 E. Park\, Freeport\, Texas\, 77541
ATTACH;FMTTYPE=image/jpeg:https://www.visitbrazosport.com/wp-content/uploads/2022/09/Plantations-of-Brazoria-County-during-the-Antebellum-Period.jpg
END:VEVENT
BEGIN:VEVENT
DTSTART;TZID=America/Chicago:20250215T090000
DTEND;TZID=America/Chicago:20250215T170000
DTSTAMP:20260421T145718
CREATED:20250128T155051Z
LAST-MODIFIED:20250128T160522Z
UID:8271-1739610000-1739638800@www.visitbrazosport.com
SUMMARY:Rice University Excavations at Varner-Hogg
DESCRIPTION:Students from Rice University’s Archaeological Field Techniques Class will be excavating at the Varner-Hogg Plantation Picnic Loop this Spring! The class is focusing their efforts on the structures discovered and documented during the Summer 2023 drought. The excavations allow students to learn what archeology is really like while still being able to keep a normal college semester. Visitors can check on their progress\, ask questions\, and learn about archaeology on site during these dates:\nFebruary 1 & 2\nFebruary 8 & 9\nFebruary 22 & 23\nMarch 1 & 2
URL:https://www.visitbrazosport.com/event/rice-university-excavations/2025-02-15/
LOCATION:Varner-Hogg Plantation\, 1702 N. 13th\, West Columbia\, TX\, 77486\, United States
ATTACH;FMTTYPE=image/jpeg:https://www.visitbrazosport.com/wp-content/uploads/2025/01/Varner-Hogg-Rice-University-Excavations-2025.jpg
END:VEVENT
BEGIN:VEVENT
DTSTART;TZID=UTC:20250215T100000
DTEND;TZID=UTC:20250215T160000
DTSTAMP:20260421T145718
CREATED:20220902T201811Z
LAST-MODIFIED:20220902T201811Z
UID:8173-1739613600-1739635200@www.visitbrazosport.com
SUMMARY:This Worst of Evils: Slavery in Brazoria County Exhibit
DESCRIPTION:This exhibit shares the narratives of the enslaved who labored local plantations as well as exploring the politics and personalities involved in the slave trade. Original artifacts from local plantation sites will be on display.
URL:https://www.visitbrazosport.com/event/slavery-in-brazoria-county/2025-02-15/
LOCATION:Freeport Historical Museum\, 311 E. Park\, Freeport\, Texas\, 77541
ATTACH;FMTTYPE=image/jpeg:https://www.visitbrazosport.com/wp-content/uploads/2022/09/Plantations-of-Brazoria-County-during-the-Antebellum-Period.jpg
END:VEVENT
BEGIN:VEVENT
DTSTART;TZID=America/Chicago:20250215T110000
DTEND;TZID=America/Chicago:20250215T160000
DTSTAMP:20260421T145718
CREATED:20250107T212845Z
LAST-MODIFIED:20250107T212845Z
UID:8251-1739617200-1739635200@www.visitbrazosport.com
SUMMARY:Freeport Sweethearts: Valentine's Day through the Decades
DESCRIPTION:Valentine’s Day is an eventful day in Freeport history! An 1895 blizzard\, snow days in the 60s and 70s\, and the Valentine’s Day Variety Shows by Freeport schools give a lot of great historical stories and photos from the day of love. Stop by the museum for Valentine’s Day crafts and stories of Freeport sweethearts!
URL:https://www.visitbrazosport.com/event/freeport-sweethearts-valentines-day-through-the-decades/
LOCATION:Freeport Historical Museum\, 311 E. Park\, Freeport\, Texas\, 77541
ATTACH;FMTTYPE=image/jpeg:https://www.visitbrazosport.com/wp-content/uploads/2025/01/Freeport-Museum-Sweethearts.jpg
END:VEVENT
BEGIN:VEVENT
DTSTART;TZID=America/Chicago:20250216T090000
DTEND;TZID=America/Chicago:20250216T170000
DTSTAMP:20260421T145718
CREATED:20250128T155051Z
LAST-MODIFIED:20250128T160523Z
UID:8272-1739696400-1739725200@www.visitbrazosport.com
SUMMARY:Rice University Excavations at Varner-Hogg
DESCRIPTION:Students from Rice University’s Archaeological Field Techniques Class will be excavating at the Varner-Hogg Plantation Picnic Loop this Spring! The class is focusing their efforts on the structures discovered and documented during the Summer 2023 drought. The excavations allow students to learn what archeology is really like while still being able to keep a normal college semester. Visitors can check on their progress\, ask questions\, and learn about archaeology on site during these dates:\nFebruary 1 & 2\nFebruary 8 & 9\nFebruary 22 & 23\nMarch 1 & 2
URL:https://www.visitbrazosport.com/event/rice-university-excavations/2025-02-16/
LOCATION:Varner-Hogg Plantation\, 1702 N. 13th\, West Columbia\, TX\, 77486\, United States
ATTACH;FMTTYPE=image/jpeg:https://www.visitbrazosport.com/wp-content/uploads/2025/01/Varner-Hogg-Rice-University-Excavations-2025.jpg
END:VEVENT
BEGIN:VEVENT
DTSTART;TZID=UTC:20250218T100000
DTEND;TZID=UTC:20250218T160000
DTSTAMP:20260421T145718
CREATED:20220902T201811Z
LAST-MODIFIED:20220902T201811Z
UID:8174-1739872800-1739894400@www.visitbrazosport.com
SUMMARY:This Worst of Evils: Slavery in Brazoria County Exhibit
DESCRIPTION:This exhibit shares the narratives of the enslaved who labored local plantations as well as exploring the politics and personalities involved in the slave trade. Original artifacts from local plantation sites will be on display.
URL:https://www.visitbrazosport.com/event/slavery-in-brazoria-county/2025-02-18/
LOCATION:Freeport Historical Museum\, 311 E. Park\, Freeport\, Texas\, 77541
ATTACH;FMTTYPE=image/jpeg:https://www.visitbrazosport.com/wp-content/uploads/2022/09/Plantations-of-Brazoria-County-during-the-Antebellum-Period.jpg
END:VEVENT
BEGIN:VEVENT
DTSTART;TZID=UTC:20250219T100000
DTEND;TZID=UTC:20250219T160000
DTSTAMP:20260421T145718
CREATED:20220902T201811Z
LAST-MODIFIED:20220902T201811Z
UID:8175-1739959200-1739980800@www.visitbrazosport.com
SUMMARY:This Worst of Evils: Slavery in Brazoria County Exhibit
DESCRIPTION:This exhibit shares the narratives of the enslaved who labored local plantations as well as exploring the politics and personalities involved in the slave trade. Original artifacts from local plantation sites will be on display.
URL:https://www.visitbrazosport.com/event/slavery-in-brazoria-county/2025-02-19/
LOCATION:Freeport Historical Museum\, 311 E. Park\, Freeport\, Texas\, 77541
ATTACH;FMTTYPE=image/jpeg:https://www.visitbrazosport.com/wp-content/uploads/2022/09/Plantations-of-Brazoria-County-during-the-Antebellum-Period.jpg
END:VEVENT
BEGIN:VEVENT
DTSTART;TZID=UTC:20250220T100000
DTEND;TZID=UTC:20250220T160000
DTSTAMP:20260421T145718
CREATED:20220902T201811Z
LAST-MODIFIED:20220902T201811Z
UID:8176-1740045600-1740067200@www.visitbrazosport.com
SUMMARY:This Worst of Evils: Slavery in Brazoria County Exhibit
DESCRIPTION:This exhibit shares the narratives of the enslaved who labored local plantations as well as exploring the politics and personalities involved in the slave trade. Original artifacts from local plantation sites will be on display.
URL:https://www.visitbrazosport.com/event/slavery-in-brazoria-county/2025-02-20/
LOCATION:Freeport Historical Museum\, 311 E. Park\, Freeport\, Texas\, 77541
ATTACH;FMTTYPE=image/jpeg:https://www.visitbrazosport.com/wp-content/uploads/2022/09/Plantations-of-Brazoria-County-during-the-Antebellum-Period.jpg
END:VEVENT
BEGIN:VEVENT
DTSTART;TZID=UTC:20250221T100000
DTEND;TZID=UTC:20250221T160000
DTSTAMP:20260421T145718
CREATED:20220902T201811Z
LAST-MODIFIED:20220902T201811Z
UID:8177-1740132000-1740153600@www.visitbrazosport.com
SUMMARY:This Worst of Evils: Slavery in Brazoria County Exhibit
DESCRIPTION:This exhibit shares the narratives of the enslaved who labored local plantations as well as exploring the politics and personalities involved in the slave trade. Original artifacts from local plantation sites will be on display.
URL:https://www.visitbrazosport.com/event/slavery-in-brazoria-county/2025-02-21/
LOCATION:Freeport Historical Museum\, 311 E. Park\, Freeport\, Texas\, 77541
ATTACH;FMTTYPE=image/jpeg:https://www.visitbrazosport.com/wp-content/uploads/2022/09/Plantations-of-Brazoria-County-during-the-Antebellum-Period.jpg
END:VEVENT
BEGIN:VEVENT
DTSTART;TZID=UTC:20250221T193000
DTEND;TZID=UTC:20250221T213000
DTSTAMP:20260421T145718
CREATED:20220902T182915Z
LAST-MODIFIED:20241120T153523Z
UID:6121-1740166200-1740173400@www.visitbrazosport.com
SUMMARY:Phil Vassar in Concert
DESCRIPTION:Phil Vassar began his career as a Nashville song writer. He penned hits for Grand Ole Opry member Alan Jackson\, Collin Raye\, Tim McGraw\, and Jo Dee Messina. In 1999\, Vassar was named ASCAP’s songwriter of the year in recognition of his accomplishments. Vassar wanted more. He wanted to sing and perform his own songs. His self-titled debut album in 2000. “Carlene\,” the album’s first single\, landed in the Top 5. The follow-up single\, “Just Another Day in Paradise\,” became Vassar’s first No. 1 hit as a singer of one of his songs. His second album\, American Child\, arrived in 2002. Shaken Not Stirred led to the No. 1 hit “In a Real Love” in 2004. In 2006\, Vassar released Greatest Hits\, Vol. 1\, a collection of his own hits as well as his own vocal spin on the hits he’s written for other artists. The album’s first single\, “Last Day of My Life\,” reached No. 2 at country radio. In December 2009\, Vassar released Traveling Circus.
URL:https://www.visitbrazosport.com/event/philvassar/
LOCATION:The Clarion at Brazosport College\, 500 College Drive\, Lake Jackson\, TX\, 77566\, United States
ATTACH;FMTTYPE=image/jpeg:https://www.visitbrazosport.com/wp-content/uploads/2022/09/Phil-Vassar.jpg
END:VEVENT
BEGIN:VEVENT
DTSTART;TZID=America/Chicago:20250222T090000
DTEND;TZID=America/Chicago:20250222T170000
DTSTAMP:20260421T145718
CREATED:20250128T155051Z
LAST-MODIFIED:20250128T160524Z
UID:8273-1740214800-1740243600@www.visitbrazosport.com
SUMMARY:Rice University Excavations at Varner-Hogg
DESCRIPTION:Students from Rice University’s Archaeological Field Techniques Class will be excavating at the Varner-Hogg Plantation Picnic Loop this Spring! The class is focusing their efforts on the structures discovered and documented during the Summer 2023 drought. The excavations allow students to learn what archeology is really like while still being able to keep a normal college semester. Visitors can check on their progress\, ask questions\, and learn about archaeology on site during these dates:\nFebruary 1 & 2\nFebruary 8 & 9\nFebruary 22 & 23\nMarch 1 & 2
URL:https://www.visitbrazosport.com/event/rice-university-excavations/2025-02-22/
LOCATION:Varner-Hogg Plantation\, 1702 N. 13th\, West Columbia\, TX\, 77486\, United States
ATTACH;FMTTYPE=image/jpeg:https://www.visitbrazosport.com/wp-content/uploads/2025/01/Varner-Hogg-Rice-University-Excavations-2025.jpg
END:VEVENT
BEGIN:VEVENT
DTSTART;TZID=UTC:20250222T100000
DTEND;TZID=UTC:20250222T160000
DTSTAMP:20260421T145718
CREATED:20220902T201811Z
LAST-MODIFIED:20220902T201811Z
UID:8178-1740218400-1740240000@www.visitbrazosport.com
SUMMARY:This Worst of Evils: Slavery in Brazoria County Exhibit
DESCRIPTION:This exhibit shares the narratives of the enslaved who labored local plantations as well as exploring the politics and personalities involved in the slave trade. Original artifacts from local plantation sites will be on display.
URL:https://www.visitbrazosport.com/event/slavery-in-brazoria-county/2025-02-22/
LOCATION:Freeport Historical Museum\, 311 E. Park\, Freeport\, Texas\, 77541
ATTACH;FMTTYPE=image/jpeg:https://www.visitbrazosport.com/wp-content/uploads/2022/09/Plantations-of-Brazoria-County-during-the-Antebellum-Period.jpg
END:VEVENT
BEGIN:VEVENT
DTSTART;TZID=America/Chicago:20250222T110000
DTEND;TZID=America/Chicago:20250222T210000
DTSTAMP:20260421T145718
CREATED:20250114T171836Z
LAST-MODIFIED:20250114T171836Z
UID:8254-1740222000-1740258000@www.visitbrazosport.com
SUMMARY:Brazoria County Comic Con
DESCRIPTION:A fun-filled weekend of Anime\, Comics\, Vendors\, Cosplay\, Artists\, Special Celebrity Guests\, and more!
URL:https://www.visitbrazosport.com/event/brazoria-county-comic-con/2025-02-22/
LOCATION:Doris Williams Lake Jackson Civic Center\, 333 Hwy. 332 East\, Lake Jackson\, Texas\, 77566
ATTACH;FMTTYPE=image/jpeg:https://www.visitbrazosport.com/wp-content/uploads/2025/01/Brazoria-County-Comic-Con-2025.jpg
END:VEVENT
BEGIN:VEVENT
DTSTART;TZID=America/Chicago:20250222T140000
DTEND;TZID=America/Chicago:20250222T160000
DTSTAMP:20260421T145718
CREATED:20241120T174932Z
LAST-MODIFIED:20241120T174932Z
UID:8124-1740232800-1740240000@www.visitbrazosport.com
SUMMARY:Varner-Hogg Plantation Public Guided Tour for Black History Month
DESCRIPTION:Learn about those who lived here throughout the site’s history including the enslaved people’s skills and the accomplishments of cowboys like Hal Fields.
URL:https://www.visitbrazosport.com/event/varner-hogg-plantation-public-guided-tour-for-black-history-month/
LOCATION:Varner-Hogg Plantation\, 1702 N. 13th\, West Columbia\, TX\, 77486\, United States
ATTACH;FMTTYPE=image/jpeg:https://www.visitbrazosport.com/wp-content/uploads/2019/01/Varner-Hogg-Plantation-e1565893875918.jpg
END:VEVENT
BEGIN:VEVENT
DTSTART;TZID=America/Chicago:20250223T090000
DTEND;TZID=America/Chicago:20250223T170000
DTSTAMP:20260421T145718
CREATED:20250128T155051Z
LAST-MODIFIED:20250128T160525Z
UID:8274-1740301200-1740330000@www.visitbrazosport.com
SUMMARY:Rice University Excavations at Varner-Hogg
DESCRIPTION:Students from Rice University’s Archaeological Field Techniques Class will be excavating at the Varner-Hogg Plantation Picnic Loop this Spring! The class is focusing their efforts on the structures discovered and documented during the Summer 2023 drought. The excavations allow students to learn what archeology is really like while still being able to keep a normal college semester. Visitors can check on their progress\, ask questions\, and learn about archaeology on site during these dates:\nFebruary 1 & 2\nFebruary 8 & 9\nFebruary 22 & 23\nMarch 1 & 2
URL:https://www.visitbrazosport.com/event/rice-university-excavations/2025-02-23/
LOCATION:Varner-Hogg Plantation\, 1702 N. 13th\, West Columbia\, TX\, 77486\, United States
ATTACH;FMTTYPE=image/jpeg:https://www.visitbrazosport.com/wp-content/uploads/2025/01/Varner-Hogg-Rice-University-Excavations-2025.jpg
END:VEVENT
END:VCALENDAR