BEGIN:VCALENDAR
VERSION:2.0
PRODID:-//Brazosport - ECPv6.15.18//NONSGML v1.0//EN
CALSCALE:GREGORIAN
METHOD:PUBLISH
X-WR-CALNAME:Brazosport
X-ORIGINAL-URL:https://www.visitbrazosport.com
X-WR-CALDESC:Events for Brazosport
REFRESH-INTERVAL;VALUE=DURATION:PT1H
X-Robots-Tag:noindex
X-PUBLISHED-TTL:PT1H
BEGIN:VTIMEZONE
TZID:America/Chicago
BEGIN:DAYLIGHT
TZOFFSETFROM:-0600
TZOFFSETTO:-0500
TZNAME:CDT
DTSTART:20190310T080000
END:DAYLIGHT
BEGIN:STANDARD
TZOFFSETFROM:-0500
TZOFFSETTO:-0600
TZNAME:CST
DTSTART:20191103T070000
END:STANDARD
BEGIN:DAYLIGHT
TZOFFSETFROM:-0600
TZOFFSETTO:-0500
TZNAME:CDT
DTSTART:20200308T080000
END:DAYLIGHT
BEGIN:STANDARD
TZOFFSETFROM:-0500
TZOFFSETTO:-0600
TZNAME:CST
DTSTART:20201101T070000
END:STANDARD
BEGIN:DAYLIGHT
TZOFFSETFROM:-0600
TZOFFSETTO:-0500
TZNAME:CDT
DTSTART:20210314T080000
END:DAYLIGHT
BEGIN:STANDARD
TZOFFSETFROM:-0500
TZOFFSETTO:-0600
TZNAME:CST
DTSTART:20211107T070000
END:STANDARD
BEGIN:DAYLIGHT
TZOFFSETFROM:-0600
TZOFFSETTO:-0500
TZNAME:CDT
DTSTART:20220313T080000
END:DAYLIGHT
BEGIN:STANDARD
TZOFFSETFROM:-0500
TZOFFSETTO:-0600
TZNAME:CST
DTSTART:20221106T070000
END:STANDARD
END:VTIMEZONE
BEGIN:VEVENT
DTSTART;TZID=America/Chicago:20210405T090000
DTEND;TZID=America/Chicago:20210405T170000
DTSTAMP:20260419T093204
CREATED:20210405T154640Z
LAST-MODIFIED:20210405T154640Z
UID:4690-1617613200-1617642000@www.visitbrazosport.com
SUMMARY:Move Over Sir: Women Working on the Railroad Exhibit
DESCRIPTION:The exhibit “Move Over Sir: Women Working on the Railroad” traces the contributions women have made to the railroad industry over the past 150 years\, calling out specific women and their roles shattering the glass ceiling.
URL:https://www.visitbrazosport.com/event/move-over-sir-women-working-on-the-railroad-exhibit/2021-04-05/
LOCATION:Brazoria County Historical Museum\, 100 E. Cedar\, Angleton\, Texas\, 77515
END:VEVENT
BEGIN:VEVENT
DTSTART;TZID=America/Chicago:20210311T183000
DTEND;TZID=America/Chicago:20210311T193000
DTSTAMP:20260419T093204
CREATED:20210106T161007Z
LAST-MODIFIED:20210106T161007Z
UID:4355-1615487400-1615491000@www.visitbrazosport.com
SUMMARY:Tejanos and the Struggle for Texas Independence - Virtual Event
DESCRIPTION:Explore the role that Tejanos (Mexican Texans) played in the development of Texas after Mexican Independence and their political and military roles in the Texas Revolution with Dr. Frank de la Tejas\, inaugural State Historian of Texas.
URL:https://www.visitbrazosport.com/event/tejanos-and-the-struggle-for-texas-independence-virtual-event/
LOCATION:Brazoria County Historical Museum\, 100 E. Cedar\, Angleton\, Texas\, 77515
ATTACH;FMTTYPE=image/jpeg:https://www.visitbrazosport.com/wp-content/uploads/2019/01/Ind_Site_BrazoriaCountyMuseum1-e1632253376906.jpg
END:VEVENT
BEGIN:VEVENT
DTSTART;TZID=America/Chicago:20210128T180000
DTEND;TZID=America/Chicago:20210128T190000
DTSTAMP:20260419T093204
CREATED:20210106T160006Z
LAST-MODIFIED:20210106T160006Z
UID:4313-1611856800-1611860400@www.visitbrazosport.com
SUMMARY:Finding Your Ancestors II: Shaking the Family Tree - Virtual Event
DESCRIPTION:This is the final session of this series. Curator Michael Bailey will address the roadblocks encountered while developing your genealogical map. \n 
URL:https://www.visitbrazosport.com/event/finding-your-ancestors-ii-shaking-the-family-tree-virtual-event/
LOCATION:Brazoria County Historical Museum\, 100 E. Cedar\, Angleton\, Texas\, 77515
END:VEVENT
BEGIN:VEVENT
DTSTART;TZID=America/Chicago:20210107T180000
DTEND;TZID=America/Chicago:20210107T190000
DTSTAMP:20260419T093204
CREATED:20210105T162924Z
LAST-MODIFIED:20210105T163618Z
UID:4310-1610042400-1610046000@www.visitbrazosport.com
SUMMARY:Finding Your Ancestors: Shaking the Family Tree - Virtual Event
DESCRIPTION:The first of two genealogy work sessions hosted by the Brazoria County Historical Museum. During this first session\, Curator Michael Bailey will host a beginner class to guide those wanting to map their family history.
URL:https://www.visitbrazosport.com/event/finding-your-ancestors-shaking-the-family-tree-virtual-event/
LOCATION:Brazoria County Historical Museum\, 100 E. Cedar\, Angleton\, Texas\, 77515
END:VEVENT
BEGIN:VEVENT
DTSTART;TZID=America/Chicago:20210106T090000
DTEND;TZID=America/Chicago:20210106T170000
DTSTAMP:20260419T093204
CREATED:20210106T160643Z
LAST-MODIFIED:20210106T174151Z
UID:4314-1609923600-1609952400@www.visitbrazosport.com
SUMMARY:Dr. Seuss Wants You! Exhibit
DESCRIPTION:This new exhibit “Dr. Seuss Wants You!” at the Brazoria County Historical Museum features Seuss’ art that confronts common issues in America during WWII.
URL:https://www.visitbrazosport.com/event/dr-suess-wants-you-exhibit/2021-01-06/
LOCATION:Brazoria County Historical Museum\, 100 E. Cedar\, Angleton\, Texas\, 77515
ATTACH;FMTTYPE=image/jpeg:https://www.visitbrazosport.com/wp-content/uploads/2019/01/Ind_Site_BrazoriaCountyMuseum1-e1632253376906.jpg
END:VEVENT
BEGIN:VEVENT
DTSTART;TZID=America/Chicago:20201201T183000
DTEND;TZID=America/Chicago:20201201T193000
DTSTAMP:20260419T093204
CREATED:20200924T155544Z
LAST-MODIFIED:20200924T155544Z
UID:4222-1606847400-1606851000@www.visitbrazosport.com
SUMMARY:Archeology of Christmas (Virtual)
DESCRIPTION:Join Dub Crook\, Houston Archeology Society Member\, (virtually) as he explores the Christmas story from Mary’s conception to the Holy family’s flight to Egypt supported by archeological discoveries.\nPre-registration is required.\nhttps://brazoriacountytx.webex.com/brazoriacountytx/onstage/g.php?MTID=ec5659eb956fcb9cb80e159527ba32848
URL:https://www.visitbrazosport.com/event/archeology-of-christmas-virtual/
LOCATION:Brazoria County Historical Museum\, 100 E. Cedar\, Angleton\, Texas\, 77515
ATTACH;FMTTYPE=image/jpeg:https://www.visitbrazosport.com/wp-content/uploads/2019/01/Ind_Site_BrazoriaCountyMuseum1-e1632253376906.jpg
END:VEVENT
BEGIN:VEVENT
DTSTART;TZID=America/Chicago:20201201T090000
DTEND;TZID=America/Chicago:20201201T170000
DTSTAMP:20260419T093204
CREATED:20200924T155113Z
LAST-MODIFIED:20200924T155113Z
UID:4212-1606813200-1606842000@www.visitbrazosport.com
SUMMARY:Letters to Santa
DESCRIPTION:Children of all ages can drop off their letters to Santa in the Brazoria County Historical Museum’s mail box. Though Santa and his Elves are busy this time of year\, they always make time to answer each and every letter. All letters must be received by December 14th to ensure a response from Santa Claus. The museum is open Monday – Friday\, 9 am – 5 pm\, and Saturday by appointment. \n 
URL:https://www.visitbrazosport.com/event/letters-to-santa/2020-12-01/
LOCATION:Brazoria County Historical Museum\, 100 E. Cedar\, Angleton\, Texas\, 77515
ATTACH;FMTTYPE=image/jpeg:https://www.visitbrazosport.com/wp-content/uploads/2019/01/Ind_Site_BrazoriaCountyMuseum1-e1632253376906.jpg
END:VEVENT
BEGIN:VEVENT
DTSTART;TZID=America/Chicago:20201022T183000
DTEND;TZID=America/Chicago:20201022T193000
DTSTAMP:20260419T093204
CREATED:20200924T152144Z
LAST-MODIFIED:20200924T152144Z
UID:4165-1603391400-1603395000@www.visitbrazosport.com
SUMMARY:Entry Point for Major Trade in Southeast Texas (Virtual)
DESCRIPTION:A discussion on exotic trade items\, where they may have originated from\, and dispel the notion that the Late Archaic and Woodland period people in Southeast Texas lived in a remote backwater that was not connected to the major activity in the Mississippi Valley. Pre-registration is required.
URL:https://www.visitbrazosport.com/event/entry-point-for-major-trade-in-southeast-texas-virtual/
LOCATION:Brazoria County Historical Museum\, 100 E. Cedar\, Angleton\, Texas\, 77515
ATTACH;FMTTYPE=image/jpeg:https://www.visitbrazosport.com/wp-content/uploads/2019/01/Ind_Site_BrazoriaCountyMuseum1-e1632253376906.jpg
END:VEVENT
BEGIN:VEVENT
DTSTART;TZID=America/Chicago:20201019T090000
DTEND;TZID=America/Chicago:20201019T170000
DTSTAMP:20260419T093204
CREATED:20200924T152700Z
LAST-MODIFIED:20200924T152832Z
UID:4167-1603098000-1603126800@www.visitbrazosport.com
SUMMARY:Dia de los Muertos Exhibit
DESCRIPTION:Explore the heritage and culture of Dia de los Muertos. A community altar will also be available for the public to honor their deceased loved ones with photos\, mementos\, or silk flowers. Monday through Friday\, 9 am – 5 pm and Saturday by appointment.
URL:https://www.visitbrazosport.com/event/dia-de-los-muertos-exhibit/2020-10-19/
LOCATION:Brazoria County Historical Museum\, 100 E. Cedar\, Angleton\, Texas\, 77515
ATTACH;FMTTYPE=image/jpeg:https://www.visitbrazosport.com/wp-content/uploads/2019/01/Ind_Site_BrazoriaCountyMuseum1-e1632253376906.jpg
END:VEVENT
BEGIN:VEVENT
DTSTART;TZID=America/Chicago:20200222T100000
DTEND;TZID=America/Chicago:20200222T160000
DTSTAMP:20260419T093204
CREATED:20190828T192235Z
LAST-MODIFIED:20190828T192235Z
UID:3632-1582365600-1582387200@www.visitbrazosport.com
SUMMARY:Austin Town
DESCRIPTION:Step back in time at this living history re-enactment. Austin Town recalls and celebrates the lives of pioneers who settled Colonial Texas from 1821 to 1832. Austin Town features character interpreters\, demonstrators\, sutlers\, militia drill units\, and period games. Admission is $3 for children and seniors; $5 for adults.
URL:https://www.visitbrazosport.com/event/austin-town/
LOCATION:Brazoria County Fairgrounds\, 901 S. Downing\, Angleton\, TX\, 77515\, United States
ATTACH;FMTTYPE=image/jpeg:https://www.visitbrazosport.com/wp-content/uploads/2019/08/austintown.jpg
END:VEVENT
END:VCALENDAR