BEGIN:VCALENDAR
VERSION:2.0
PRODID:-//Brazosport - ECPv6.15.18//NONSGML v1.0//EN
CALSCALE:GREGORIAN
METHOD:PUBLISH
X-WR-CALNAME:Brazosport
X-ORIGINAL-URL:https://www.visitbrazosport.com
X-WR-CALDESC:Events for Brazosport
REFRESH-INTERVAL;VALUE=DURATION:PT1H
X-Robots-Tag:noindex
X-PUBLISHED-TTL:PT1H
BEGIN:VTIMEZONE
TZID:America/Chicago
BEGIN:DAYLIGHT
TZOFFSETFROM:-0600
TZOFFSETTO:-0500
TZNAME:CDT
DTSTART:20250309T080000
END:DAYLIGHT
BEGIN:STANDARD
TZOFFSETFROM:-0500
TZOFFSETTO:-0600
TZNAME:CST
DTSTART:20251102T070000
END:STANDARD
BEGIN:DAYLIGHT
TZOFFSETFROM:-0600
TZOFFSETTO:-0500
TZNAME:CDT
DTSTART:20260308T080000
END:DAYLIGHT
BEGIN:STANDARD
TZOFFSETFROM:-0500
TZOFFSETTO:-0600
TZNAME:CST
DTSTART:20261101T070000
END:STANDARD
BEGIN:DAYLIGHT
TZOFFSETFROM:-0600
TZOFFSETTO:-0500
TZNAME:CDT
DTSTART:20270314T080000
END:DAYLIGHT
BEGIN:STANDARD
TZOFFSETFROM:-0500
TZOFFSETTO:-0600
TZNAME:CST
DTSTART:20271107T070000
END:STANDARD
END:VTIMEZONE
BEGIN:VEVENT
DTSTART;TZID=America/Chicago:20260523T100000
DTEND;TZID=America/Chicago:20260523T160000
DTSTAMP:20260420T212238
CREATED:20241120T204849Z
LAST-MODIFIED:20251120T172513Z
UID:8140-1779530400-1779552000@www.visitbrazosport.com
SUMMARY:Shark Exhibit
DESCRIPTION:Stand inside enormous shark jaws\, see life-sized models of different sharks\, and explore fascinating ocean life!
URL:https://www.visitbrazosport.com/event/shark-exhibit/2026-05-23/
LOCATION:Freeport Historical Museum\, 311 E. Park\, Freeport\, Texas\, 77541
ATTACH;FMTTYPE=image/jpeg:https://www.visitbrazosport.com/wp-content/uploads/2024/11/image1.jpg
END:VEVENT
BEGIN:VEVENT
DTSTART;TZID=America/Chicago:20260526T100000
DTEND;TZID=America/Chicago:20260526T160000
DTSTAMP:20260420T212238
CREATED:20241120T204849Z
LAST-MODIFIED:20241120T204849Z
UID:8591-1779789600-1779811200@www.visitbrazosport.com
SUMMARY:Shark Exhibit
DESCRIPTION:Stand inside enormous shark jaws\, see life-sized models of different sharks\, and explore fascinating ocean life!
URL:https://www.visitbrazosport.com/event/shark-exhibit/2026-05-26/
LOCATION:Freeport Historical Museum\, 311 E. Park\, Freeport\, Texas\, 77541
ATTACH;FMTTYPE=image/jpeg:https://www.visitbrazosport.com/wp-content/uploads/2024/11/image1.jpg
END:VEVENT
BEGIN:VEVENT
DTSTART;TZID=America/Chicago:20260527T100000
DTEND;TZID=America/Chicago:20260527T160000
DTSTAMP:20260420T212238
CREATED:20241120T204849Z
LAST-MODIFIED:20241120T204849Z
UID:8592-1779876000-1779897600@www.visitbrazosport.com
SUMMARY:Shark Exhibit
DESCRIPTION:Stand inside enormous shark jaws\, see life-sized models of different sharks\, and explore fascinating ocean life!
URL:https://www.visitbrazosport.com/event/shark-exhibit/2026-05-27/
LOCATION:Freeport Historical Museum\, 311 E. Park\, Freeport\, Texas\, 77541
ATTACH;FMTTYPE=image/jpeg:https://www.visitbrazosport.com/wp-content/uploads/2024/11/image1.jpg
END:VEVENT
BEGIN:VEVENT
DTSTART;TZID=America/Chicago:20260528T100000
DTEND;TZID=America/Chicago:20260528T160000
DTSTAMP:20260420T212238
CREATED:20241120T204849Z
LAST-MODIFIED:20241120T204849Z
UID:8593-1779962400-1779984000@www.visitbrazosport.com
SUMMARY:Shark Exhibit
DESCRIPTION:Stand inside enormous shark jaws\, see life-sized models of different sharks\, and explore fascinating ocean life!
URL:https://www.visitbrazosport.com/event/shark-exhibit/2026-05-28/
LOCATION:Freeport Historical Museum\, 311 E. Park\, Freeport\, Texas\, 77541
ATTACH;FMTTYPE=image/jpeg:https://www.visitbrazosport.com/wp-content/uploads/2024/11/image1.jpg
END:VEVENT
BEGIN:VEVENT
DTSTART;TZID=America/Chicago:20260529T100000
DTEND;TZID=America/Chicago:20260529T160000
DTSTAMP:20260420T212238
CREATED:20241120T204849Z
LAST-MODIFIED:20241120T204849Z
UID:8594-1780048800-1780070400@www.visitbrazosport.com
SUMMARY:Shark Exhibit
DESCRIPTION:Stand inside enormous shark jaws\, see life-sized models of different sharks\, and explore fascinating ocean life!
URL:https://www.visitbrazosport.com/event/shark-exhibit/2026-05-29/
LOCATION:Freeport Historical Museum\, 311 E. Park\, Freeport\, Texas\, 77541
ATTACH;FMTTYPE=image/jpeg:https://www.visitbrazosport.com/wp-content/uploads/2024/11/image1.jpg
END:VEVENT
BEGIN:VEVENT
DTSTART;TZID=America/Chicago:20260530T100000
DTEND;TZID=America/Chicago:20260530T160000
DTSTAMP:20260420T212238
CREATED:20241120T204849Z
LAST-MODIFIED:20241120T204849Z
UID:8595-1780135200-1780156800@www.visitbrazosport.com
SUMMARY:Shark Exhibit
DESCRIPTION:Stand inside enormous shark jaws\, see life-sized models of different sharks\, and explore fascinating ocean life!
URL:https://www.visitbrazosport.com/event/shark-exhibit/2026-05-30/
LOCATION:Freeport Historical Museum\, 311 E. Park\, Freeport\, Texas\, 77541
ATTACH;FMTTYPE=image/jpeg:https://www.visitbrazosport.com/wp-content/uploads/2024/11/image1.jpg
END:VEVENT
BEGIN:VEVENT
DTSTART;TZID=America/Chicago:20260602T100000
DTEND;TZID=America/Chicago:20260602T160000
DTSTAMP:20260420T212238
CREATED:20241120T204849Z
LAST-MODIFIED:20241120T204849Z
UID:8596-1780394400-1780416000@www.visitbrazosport.com
SUMMARY:Shark Exhibit
DESCRIPTION:Stand inside enormous shark jaws\, see life-sized models of different sharks\, and explore fascinating ocean life!
URL:https://www.visitbrazosport.com/event/shark-exhibit/2026-06-02/
LOCATION:Freeport Historical Museum\, 311 E. Park\, Freeport\, Texas\, 77541
ATTACH;FMTTYPE=image/jpeg:https://www.visitbrazosport.com/wp-content/uploads/2024/11/image1.jpg
END:VEVENT
BEGIN:VEVENT
DTSTART;TZID=America/Chicago:20260603T100000
DTEND;TZID=America/Chicago:20260603T160000
DTSTAMP:20260420T212238
CREATED:20241120T204849Z
LAST-MODIFIED:20241120T204849Z
UID:8597-1780480800-1780502400@www.visitbrazosport.com
SUMMARY:Shark Exhibit
DESCRIPTION:Stand inside enormous shark jaws\, see life-sized models of different sharks\, and explore fascinating ocean life!
URL:https://www.visitbrazosport.com/event/shark-exhibit/2026-06-03/
LOCATION:Freeport Historical Museum\, 311 E. Park\, Freeport\, Texas\, 77541
ATTACH;FMTTYPE=image/jpeg:https://www.visitbrazosport.com/wp-content/uploads/2024/11/image1.jpg
END:VEVENT
BEGIN:VEVENT
DTSTART;TZID=America/Chicago:20260604T100000
DTEND;TZID=America/Chicago:20260604T160000
DTSTAMP:20260420T212238
CREATED:20241120T204849Z
LAST-MODIFIED:20241120T204849Z
UID:8598-1780567200-1780588800@www.visitbrazosport.com
SUMMARY:Shark Exhibit
DESCRIPTION:Stand inside enormous shark jaws\, see life-sized models of different sharks\, and explore fascinating ocean life!
URL:https://www.visitbrazosport.com/event/shark-exhibit/2026-06-04/
LOCATION:Freeport Historical Museum\, 311 E. Park\, Freeport\, Texas\, 77541
ATTACH;FMTTYPE=image/jpeg:https://www.visitbrazosport.com/wp-content/uploads/2024/11/image1.jpg
END:VEVENT
BEGIN:VEVENT
DTSTART;TZID=America/Chicago:20260605T100000
DTEND;TZID=America/Chicago:20260605T160000
DTSTAMP:20260420T212238
CREATED:20241120T204849Z
LAST-MODIFIED:20241120T204849Z
UID:8599-1780653600-1780675200@www.visitbrazosport.com
SUMMARY:Shark Exhibit
DESCRIPTION:Stand inside enormous shark jaws\, see life-sized models of different sharks\, and explore fascinating ocean life!
URL:https://www.visitbrazosport.com/event/shark-exhibit/2026-06-05/
LOCATION:Freeport Historical Museum\, 311 E. Park\, Freeport\, Texas\, 77541
ATTACH;FMTTYPE=image/jpeg:https://www.visitbrazosport.com/wp-content/uploads/2024/11/image1.jpg
END:VEVENT
BEGIN:VEVENT
DTSTART;TZID=America/Chicago:20260606T100000
DTEND;TZID=America/Chicago:20260606T160000
DTSTAMP:20260420T212238
CREATED:20241120T204849Z
LAST-MODIFIED:20241120T204849Z
UID:8600-1780740000-1780761600@www.visitbrazosport.com
SUMMARY:Shark Exhibit
DESCRIPTION:Stand inside enormous shark jaws\, see life-sized models of different sharks\, and explore fascinating ocean life!
URL:https://www.visitbrazosport.com/event/shark-exhibit/2026-06-06/
LOCATION:Freeport Historical Museum\, 311 E. Park\, Freeport\, Texas\, 77541
ATTACH;FMTTYPE=image/jpeg:https://www.visitbrazosport.com/wp-content/uploads/2024/11/image1.jpg
END:VEVENT
BEGIN:VEVENT
DTSTART;TZID=America/Chicago:20260609T100000
DTEND;TZID=America/Chicago:20260609T160000
DTSTAMP:20260420T212238
CREATED:20241120T204849Z
LAST-MODIFIED:20241120T204849Z
UID:8601-1780999200-1781020800@www.visitbrazosport.com
SUMMARY:Shark Exhibit
DESCRIPTION:Stand inside enormous shark jaws\, see life-sized models of different sharks\, and explore fascinating ocean life!
URL:https://www.visitbrazosport.com/event/shark-exhibit/2026-06-09/
LOCATION:Freeport Historical Museum\, 311 E. Park\, Freeport\, Texas\, 77541
ATTACH;FMTTYPE=image/jpeg:https://www.visitbrazosport.com/wp-content/uploads/2024/11/image1.jpg
END:VEVENT
BEGIN:VEVENT
DTSTART;TZID=America/Chicago:20260610T100000
DTEND;TZID=America/Chicago:20260610T160000
DTSTAMP:20260420T212238
CREATED:20241120T204849Z
LAST-MODIFIED:20241120T204849Z
UID:8602-1781085600-1781107200@www.visitbrazosport.com
SUMMARY:Shark Exhibit
DESCRIPTION:Stand inside enormous shark jaws\, see life-sized models of different sharks\, and explore fascinating ocean life!
URL:https://www.visitbrazosport.com/event/shark-exhibit/2026-06-10/
LOCATION:Freeport Historical Museum\, 311 E. Park\, Freeport\, Texas\, 77541
ATTACH;FMTTYPE=image/jpeg:https://www.visitbrazosport.com/wp-content/uploads/2024/11/image1.jpg
END:VEVENT
BEGIN:VEVENT
DTSTART;TZID=America/Chicago:20260611T100000
DTEND;TZID=America/Chicago:20260611T160000
DTSTAMP:20260420T212238
CREATED:20241120T204849Z
LAST-MODIFIED:20241120T204849Z
UID:8603-1781172000-1781193600@www.visitbrazosport.com
SUMMARY:Shark Exhibit
DESCRIPTION:Stand inside enormous shark jaws\, see life-sized models of different sharks\, and explore fascinating ocean life!
URL:https://www.visitbrazosport.com/event/shark-exhibit/2026-06-11/
LOCATION:Freeport Historical Museum\, 311 E. Park\, Freeport\, Texas\, 77541
ATTACH;FMTTYPE=image/jpeg:https://www.visitbrazosport.com/wp-content/uploads/2024/11/image1.jpg
END:VEVENT
BEGIN:VEVENT
DTSTART;TZID=America/Chicago:20260612T100000
DTEND;TZID=America/Chicago:20260612T160000
DTSTAMP:20260420T212238
CREATED:20241120T204849Z
LAST-MODIFIED:20241120T204849Z
UID:8604-1781258400-1781280000@www.visitbrazosport.com
SUMMARY:Shark Exhibit
DESCRIPTION:Stand inside enormous shark jaws\, see life-sized models of different sharks\, and explore fascinating ocean life!
URL:https://www.visitbrazosport.com/event/shark-exhibit/2026-06-12/
LOCATION:Freeport Historical Museum\, 311 E. Park\, Freeport\, Texas\, 77541
ATTACH;FMTTYPE=image/jpeg:https://www.visitbrazosport.com/wp-content/uploads/2024/11/image1.jpg
END:VEVENT
BEGIN:VEVENT
DTSTART;TZID=America/Chicago:20260613T100000
DTEND;TZID=America/Chicago:20260613T160000
DTSTAMP:20260420T212238
CREATED:20241120T204849Z
LAST-MODIFIED:20241120T204849Z
UID:8605-1781344800-1781366400@www.visitbrazosport.com
SUMMARY:Shark Exhibit
DESCRIPTION:Stand inside enormous shark jaws\, see life-sized models of different sharks\, and explore fascinating ocean life!
URL:https://www.visitbrazosport.com/event/shark-exhibit/2026-06-13/
LOCATION:Freeport Historical Museum\, 311 E. Park\, Freeport\, Texas\, 77541
ATTACH;FMTTYPE=image/jpeg:https://www.visitbrazosport.com/wp-content/uploads/2024/11/image1.jpg
END:VEVENT
BEGIN:VEVENT
DTSTART;TZID=America/Chicago:20260616T100000
DTEND;TZID=America/Chicago:20260616T160000
DTSTAMP:20260420T212238
CREATED:20241120T204849Z
LAST-MODIFIED:20241120T204849Z
UID:8606-1781604000-1781625600@www.visitbrazosport.com
SUMMARY:Shark Exhibit
DESCRIPTION:Stand inside enormous shark jaws\, see life-sized models of different sharks\, and explore fascinating ocean life!
URL:https://www.visitbrazosport.com/event/shark-exhibit/2026-06-16/
LOCATION:Freeport Historical Museum\, 311 E. Park\, Freeport\, Texas\, 77541
ATTACH;FMTTYPE=image/jpeg:https://www.visitbrazosport.com/wp-content/uploads/2024/11/image1.jpg
END:VEVENT
BEGIN:VEVENT
DTSTART;TZID=America/Chicago:20260617T100000
DTEND;TZID=America/Chicago:20260617T160000
DTSTAMP:20260420T212238
CREATED:20241120T204849Z
LAST-MODIFIED:20241120T204849Z
UID:8607-1781690400-1781712000@www.visitbrazosport.com
SUMMARY:Shark Exhibit
DESCRIPTION:Stand inside enormous shark jaws\, see life-sized models of different sharks\, and explore fascinating ocean life!
URL:https://www.visitbrazosport.com/event/shark-exhibit/2026-06-17/
LOCATION:Freeport Historical Museum\, 311 E. Park\, Freeport\, Texas\, 77541
ATTACH;FMTTYPE=image/jpeg:https://www.visitbrazosport.com/wp-content/uploads/2024/11/image1.jpg
END:VEVENT
BEGIN:VEVENT
DTSTART;TZID=America/Chicago:20260618T100000
DTEND;TZID=America/Chicago:20260618T160000
DTSTAMP:20260420T212238
CREATED:20241120T204849Z
LAST-MODIFIED:20241120T204849Z
UID:8608-1781776800-1781798400@www.visitbrazosport.com
SUMMARY:Shark Exhibit
DESCRIPTION:Stand inside enormous shark jaws\, see life-sized models of different sharks\, and explore fascinating ocean life!
URL:https://www.visitbrazosport.com/event/shark-exhibit/2026-06-18/
LOCATION:Freeport Historical Museum\, 311 E. Park\, Freeport\, Texas\, 77541
ATTACH;FMTTYPE=image/jpeg:https://www.visitbrazosport.com/wp-content/uploads/2024/11/image1.jpg
END:VEVENT
BEGIN:VEVENT
DTSTART;TZID=America/Chicago:20260619T100000
DTEND;TZID=America/Chicago:20260619T160000
DTSTAMP:20260420T212238
CREATED:20241120T204849Z
LAST-MODIFIED:20241120T204849Z
UID:8609-1781863200-1781884800@www.visitbrazosport.com
SUMMARY:Shark Exhibit
DESCRIPTION:Stand inside enormous shark jaws\, see life-sized models of different sharks\, and explore fascinating ocean life!
URL:https://www.visitbrazosport.com/event/shark-exhibit/2026-06-19/
LOCATION:Freeport Historical Museum\, 311 E. Park\, Freeport\, Texas\, 77541
ATTACH;FMTTYPE=image/jpeg:https://www.visitbrazosport.com/wp-content/uploads/2024/11/image1.jpg
END:VEVENT
BEGIN:VEVENT
DTSTART;TZID=America/Chicago:20260620T100000
DTEND;TZID=America/Chicago:20260620T160000
DTSTAMP:20260420T212238
CREATED:20241120T204849Z
LAST-MODIFIED:20241120T204849Z
UID:8610-1781949600-1781971200@www.visitbrazosport.com
SUMMARY:Shark Exhibit
DESCRIPTION:Stand inside enormous shark jaws\, see life-sized models of different sharks\, and explore fascinating ocean life!
URL:https://www.visitbrazosport.com/event/shark-exhibit/2026-06-20/
LOCATION:Freeport Historical Museum\, 311 E. Park\, Freeport\, Texas\, 77541
ATTACH;FMTTYPE=image/jpeg:https://www.visitbrazosport.com/wp-content/uploads/2024/11/image1.jpg
END:VEVENT
BEGIN:VEVENT
DTSTART;TZID=America/Chicago:20260623T100000
DTEND;TZID=America/Chicago:20260623T160000
DTSTAMP:20260420T212238
CREATED:20241120T204849Z
LAST-MODIFIED:20241120T204849Z
UID:8611-1782208800-1782230400@www.visitbrazosport.com
SUMMARY:Shark Exhibit
DESCRIPTION:Stand inside enormous shark jaws\, see life-sized models of different sharks\, and explore fascinating ocean life!
URL:https://www.visitbrazosport.com/event/shark-exhibit/2026-06-23/
LOCATION:Freeport Historical Museum\, 311 E. Park\, Freeport\, Texas\, 77541
ATTACH;FMTTYPE=image/jpeg:https://www.visitbrazosport.com/wp-content/uploads/2024/11/image1.jpg
END:VEVENT
BEGIN:VEVENT
DTSTART;TZID=America/Chicago:20260624T100000
DTEND;TZID=America/Chicago:20260624T160000
DTSTAMP:20260420T212238
CREATED:20241120T204849Z
LAST-MODIFIED:20241120T204849Z
UID:8612-1782295200-1782316800@www.visitbrazosport.com
SUMMARY:Shark Exhibit
DESCRIPTION:Stand inside enormous shark jaws\, see life-sized models of different sharks\, and explore fascinating ocean life!
URL:https://www.visitbrazosport.com/event/shark-exhibit/2026-06-24/
LOCATION:Freeport Historical Museum\, 311 E. Park\, Freeport\, Texas\, 77541
ATTACH;FMTTYPE=image/jpeg:https://www.visitbrazosport.com/wp-content/uploads/2024/11/image1.jpg
END:VEVENT
BEGIN:VEVENT
DTSTART;TZID=America/Chicago:20260625T100000
DTEND;TZID=America/Chicago:20260625T160000
DTSTAMP:20260420T212238
CREATED:20241120T204849Z
LAST-MODIFIED:20241120T204849Z
UID:8613-1782381600-1782403200@www.visitbrazosport.com
SUMMARY:Shark Exhibit
DESCRIPTION:Stand inside enormous shark jaws\, see life-sized models of different sharks\, and explore fascinating ocean life!
URL:https://www.visitbrazosport.com/event/shark-exhibit/2026-06-25/
LOCATION:Freeport Historical Museum\, 311 E. Park\, Freeport\, Texas\, 77541
ATTACH;FMTTYPE=image/jpeg:https://www.visitbrazosport.com/wp-content/uploads/2024/11/image1.jpg
END:VEVENT
BEGIN:VEVENT
DTSTART;TZID=America/Chicago:20260626T100000
DTEND;TZID=America/Chicago:20260626T160000
DTSTAMP:20260420T212238
CREATED:20241120T204849Z
LAST-MODIFIED:20241120T204849Z
UID:8614-1782468000-1782489600@www.visitbrazosport.com
SUMMARY:Shark Exhibit
DESCRIPTION:Stand inside enormous shark jaws\, see life-sized models of different sharks\, and explore fascinating ocean life!
URL:https://www.visitbrazosport.com/event/shark-exhibit/2026-06-26/
LOCATION:Freeport Historical Museum\, 311 E. Park\, Freeport\, Texas\, 77541
ATTACH;FMTTYPE=image/jpeg:https://www.visitbrazosport.com/wp-content/uploads/2024/11/image1.jpg
END:VEVENT
BEGIN:VEVENT
DTSTART;TZID=America/Chicago:20260627T100000
DTEND;TZID=America/Chicago:20260627T160000
DTSTAMP:20260420T212238
CREATED:20241120T204849Z
LAST-MODIFIED:20241120T204849Z
UID:8615-1782554400-1782576000@www.visitbrazosport.com
SUMMARY:Shark Exhibit
DESCRIPTION:Stand inside enormous shark jaws\, see life-sized models of different sharks\, and explore fascinating ocean life!
URL:https://www.visitbrazosport.com/event/shark-exhibit/2026-06-27/
LOCATION:Freeport Historical Museum\, 311 E. Park\, Freeport\, Texas\, 77541
ATTACH;FMTTYPE=image/jpeg:https://www.visitbrazosport.com/wp-content/uploads/2024/11/image1.jpg
END:VEVENT
BEGIN:VEVENT
DTSTART;TZID=America/Chicago:20260630T100000
DTEND;TZID=America/Chicago:20260630T160000
DTSTAMP:20260420T212238
CREATED:20241120T204849Z
LAST-MODIFIED:20241120T204849Z
UID:8616-1782813600-1782835200@www.visitbrazosport.com
SUMMARY:Shark Exhibit
DESCRIPTION:Stand inside enormous shark jaws\, see life-sized models of different sharks\, and explore fascinating ocean life!
URL:https://www.visitbrazosport.com/event/shark-exhibit/2026-06-30/
LOCATION:Freeport Historical Museum\, 311 E. Park\, Freeport\, Texas\, 77541
ATTACH;FMTTYPE=image/jpeg:https://www.visitbrazosport.com/wp-content/uploads/2024/11/image1.jpg
END:VEVENT
BEGIN:VEVENT
DTSTART;TZID=America/Chicago:20260701T100000
DTEND;TZID=America/Chicago:20260701T160000
DTSTAMP:20260420T212238
CREATED:20241120T204849Z
LAST-MODIFIED:20241120T204849Z
UID:8617-1782900000-1782921600@www.visitbrazosport.com
SUMMARY:Shark Exhibit
DESCRIPTION:Stand inside enormous shark jaws\, see life-sized models of different sharks\, and explore fascinating ocean life!
URL:https://www.visitbrazosport.com/event/shark-exhibit/2026-07-01/
LOCATION:Freeport Historical Museum\, 311 E. Park\, Freeport\, Texas\, 77541
ATTACH;FMTTYPE=image/jpeg:https://www.visitbrazosport.com/wp-content/uploads/2024/11/image1.jpg
END:VEVENT
BEGIN:VEVENT
DTSTART;TZID=America/Chicago:20260702T100000
DTEND;TZID=America/Chicago:20260702T160000
DTSTAMP:20260420T212238
CREATED:20241120T204849Z
LAST-MODIFIED:20241120T204849Z
UID:8618-1782986400-1783008000@www.visitbrazosport.com
SUMMARY:Shark Exhibit
DESCRIPTION:Stand inside enormous shark jaws\, see life-sized models of different sharks\, and explore fascinating ocean life!
URL:https://www.visitbrazosport.com/event/shark-exhibit/2026-07-02/
LOCATION:Freeport Historical Museum\, 311 E. Park\, Freeport\, Texas\, 77541
ATTACH;FMTTYPE=image/jpeg:https://www.visitbrazosport.com/wp-content/uploads/2024/11/image1.jpg
END:VEVENT
BEGIN:VEVENT
DTSTART;TZID=America/Chicago:20260703T100000
DTEND;TZID=America/Chicago:20260703T160000
DTSTAMP:20260420T212238
CREATED:20241120T204849Z
LAST-MODIFIED:20241120T204849Z
UID:8619-1783072800-1783094400@www.visitbrazosport.com
SUMMARY:Shark Exhibit
DESCRIPTION:Stand inside enormous shark jaws\, see life-sized models of different sharks\, and explore fascinating ocean life!
URL:https://www.visitbrazosport.com/event/shark-exhibit/2026-07-03/
LOCATION:Freeport Historical Museum\, 311 E. Park\, Freeport\, Texas\, 77541
ATTACH;FMTTYPE=image/jpeg:https://www.visitbrazosport.com/wp-content/uploads/2024/11/image1.jpg
END:VEVENT
END:VCALENDAR